BEGIN:VCALENDAR
VERSION:2.0
PRODID:-//Library Market//iCal Export//EN
BEGIN:VEVENT
SUMMARY:Staff meeting
UID:4023
DTSTAMP:20260426T041500Z
DTSTART:20260428T173000Z
DTEND:20260428T193000Z
LOCATION:6130 King Hwy, Kalamazoo, MI 49048, United States
ROOM: Heritage Meeting Room
DESCRIPTION:Staff meeting
URL:https://comstock.librarycalendar.com/event/staff-meeting-4023
END:VEVENT
END:VCALENDAR
