BEGIN:VCALENDAR
VERSION:2.0
PRODID:-//Library Market//iCal Export//EN
BEGIN:VEVENT
SUMMARY:Department Head meeting
UID:4008
DTSTAMP:20260424T025300Z
DTSTART:20260420T173000Z
DTEND:20260420T190000Z
LOCATION:6130 King Hwy, Kalamazoo, MI 49048, United States
ROOM: Heritage Meeting Room
DESCRIPTION:DH meeting
URL:https://comstock.librarycalendar.com/event/department-head-meeting-400
 8
END:VEVENT
END:VCALENDAR
