BEGIN:VCALENDAR
VERSION:2.0
PRODID:-//Library Market//iCal Export//EN
BEGIN:VEVENT
SUMMARY:Cat Hat Workshop
UID:4000
DTSTAMP:20260420T025800Z
DTSTART:20261008T220000Z
DTEND:20261008T230000Z
LOCATION:6130 King Hwy, Kalamazoo, MI 49048, United States
ROOM: Heritage Meeting Room
DESCRIPTION:Join us for a Cat Hat Workshop! Learn how to make top hats, le
 prechaun hats, cowboy hats, witch hats, wizard hats, pirate hats, jester h
 ats, birthday hats, and the crown your cat deserves. You’re also free to
  make any design that comes to mind! We provide the supplies and basic ins
 tructions. *Registration Required***We cannot guarantee your cat will wea
 r the hat you make.**
URL:https://comstock.librarycalendar.com/event/cat-hat-workshop-4000
END:VEVENT
END:VCALENDAR
