BEGIN:VCALENDAR
VERSION:2.0
PRODID:-//Library Market//iCal Export//EN
BEGIN:VEVENT
SUMMARY:Crochet &amp; Knit 4 Charities
UID:3991
DTSTAMP:20260421T044500Z
DTSTART:20260423T170000Z
DTEND:20260423T190000Z
LOCATION:6130 King Hwy, Kalamazoo, MI 49048, United States
ROOM: Heritage Meeting Room
DESCRIPTION:Crochet and Knit for Charities group meeting
URL:https://comstock.librarycalendar.com/event/crochet-knit-4-charities-39
 91
END:VEVENT
END:VCALENDAR
